BEGIN:VCALENDAR
PRODID:-//github.com/rianjs/ical.net//NONSGML ical.net 4.0//EN
VERSION:2.0
BEGIN:VTIMEZONE
TZID:America/Chicago
X-LIC-LOCATION:America/Chicago
BEGIN:STANDARD
DTSTART:20241103T020000
RRULE:FREQ=YEARLY;BYDAY=1SU;BYMONTH=11
TZNAME:CST
TZOFFSETFROM:-0500
TZOFFSETTO:-0600
END:STANDARD
BEGIN:DAYLIGHT
DTSTART:20250309T020000
RRULE:FREQ=YEARLY;BYDAY=2SU;BYMONTH=3
TZNAME:CDT
TZOFFSETFROM:-0600
TZOFFSETTO:-0500
END:DAYLIGHT
END:VTIMEZONE
BEGIN:VEVENT
CLASS:PUBLIC
CREATED:20260423T085244Z
DESCRIPTION:Join the Austin-Travis County Wildfire Coalition for an in per
 son public meeting on Wednesday April 8th at 6 PM to help shape the Commu
 nity Wildfire Protection Plan (CWPP). This plan identifies wildfire risks
  recommends ways to reduce them and ensures our community is ready before
  disaster strikes. To learn more about the Community Wildfire Protection 
 Plan (CWPP) visit: City of Austin/Travis County Community Wildfire Protec
 tion Plan We recommend you take our community survey https://publicinput.
 com/cwpp before attending.\n https://www.speakupaustin.org/DP7748
DTEND;TZID=America/Chicago:20260408T200000
DTSTAMP:20260423T085244Z
DTSTART;TZID=America/Chicago:20260408T180000
LOCATION:Early College Cafeteria 4715 Ross Road\, Del Valle\, TX 78617
SEQUENCE:0
SUMMARY:Community Wildfire Protection Plan (CWPP) Public Input Meeting: Ea
 st Location
UID:c5765b13-3ed9-4254-9c7e-d3057c05a93e
END:VEVENT
END:VCALENDAR
